BEGIN:VCALENDAR
VERSION:2.0
PRODID:-//Arlington Today Magazine - ECPv6.15.20//NONSGML v1.0//EN
CALSCALE:GREGORIAN
METHOD:PUBLISH
X-ORIGINAL-URL:https://arlingtontoday.com
X-WR-CALDESC:Events for Arlington Today Magazine
REFRESH-INTERVAL;VALUE=DURATION:PT1H
X-Robots-Tag:noindex
X-PUBLISHED-TTL:PT1H
BEGIN:VTIMEZONE
TZID:America/Chicago
BEGIN:DAYLIGHT
TZOFFSETFROM:-0600
TZOFFSETTO:-0500
TZNAME:CDT
DTSTART:20150308T080000
END:DAYLIGHT
BEGIN:STANDARD
TZOFFSETFROM:-0500
TZOFFSETTO:-0600
TZNAME:CST
DTSTART:20151101T070000
END:STANDARD
BEGIN:DAYLIGHT
TZOFFSETFROM:-0600
TZOFFSETTO:-0500
TZNAME:CDT
DTSTART:20160313T080000
END:DAYLIGHT
BEGIN:STANDARD
TZOFFSETFROM:-0500
TZOFFSETTO:-0600
TZNAME:CST
DTSTART:20161106T070000
END:STANDARD
BEGIN:DAYLIGHT
TZOFFSETFROM:-0600
TZOFFSETTO:-0500
TZNAME:CDT
DTSTART:20170312T080000
END:DAYLIGHT
BEGIN:STANDARD
TZOFFSETFROM:-0500
TZOFFSETTO:-0600
TZNAME:CST
DTSTART:20171105T070000
END:STANDARD
BEGIN:DAYLIGHT
TZOFFSETFROM:-0600
TZOFFSETTO:-0500
TZNAME:CDT
DTSTART:20180311T080000
END:DAYLIGHT
BEGIN:STANDARD
TZOFFSETFROM:-0500
TZOFFSETTO:-0600
TZNAME:CST
DTSTART:20181104T070000
END:STANDARD
END:VTIMEZONE
BEGIN:VEVENT
DTSTART;VALUE=DATE:20170312
DTEND;VALUE=DATE:20170313
DTSTAMP:20260422T182622
CREATED:20170207T123738Z
LAST-MODIFIED:20170207T123738Z
UID:2346-1489276800-1489363199@arlingtontoday.com
SUMMARY:UTA Softball
DESCRIPTION:12:00 PM vs. ULM – Allan Saxe Field – Tickets available online at UTATickets.com or call the box office at 817-272-9595
URL:https://arlingtontoday.com/event/uta-softball-3/
LOCATION:Allan Saxe Field\, 1400 Maverick Way\, Arlington\, TX\, 76013\, United States
CATEGORIES:Family Fun,Sports,UTA
END:VEVENT
BEGIN:VEVENT
DTSTART;VALUE=DATE:20170312
DTEND;VALUE=DATE:20170313
DTSTAMP:20260422T182622
CREATED:20170201T155034Z
LAST-MODIFIED:20170201T155034Z
UID:2342-1489276800-1489363199@arlingtontoday.com
SUMMARY:UTA Baseball
DESCRIPTION:1:00 PM vs. Milwaukee – Clay Gould Ballpark – Tickets available online at UTATickets.com or call the box office at 871-272-9595
URL:https://arlingtontoday.com/event/uta-baseball-6/
LOCATION:Clay Gould Ballpark\, 1400 Allen Saxe Parkway\, Arlington\, TX\, 76013\, United States
CATEGORIES:Family Fun,Sports,UTA
END:VEVENT
BEGIN:VEVENT
DTSTART;VALUE=DATE:20170311
DTEND;VALUE=DATE:20170312
DTSTAMP:20260422T182622
CREATED:20170207T123640Z
LAST-MODIFIED:20170207T123640Z
UID:2344-1489190400-1489276799@arlingtontoday.com
SUMMARY:UTA Doubleheader: Softball
DESCRIPTION:1:oo PM vs. ULM – 3:00 PM vs. ULM – Allan Saxe Field – Tickets available online at UTATickets.com or call the box office at 817-272-9595
URL:https://arlingtontoday.com/event/uta-doubleheader-softball-4/
LOCATION:Allan Saxe Field\, 1400 Maverick Way\, Arlington\, TX\, 76013\, United States
CATEGORIES:Family Fun,Sports,UTA
END:VEVENT
BEGIN:VEVENT
DTSTART;VALUE=DATE:20170311
DTEND;VALUE=DATE:20170312
DTSTAMP:20260422T182622
CREATED:20170201T154941Z
LAST-MODIFIED:20170201T154941Z
UID:2340-1489190400-1489276799@arlingtontoday.com
SUMMARY:UTA Baseball
DESCRIPTION:2:00 PM vs. Milwaukee – Clay Gould Ballpark – Tickets available online at UTATickets.com or call the box office at 871-272-9595
URL:https://arlingtontoday.com/event/uta-baseball-5/
LOCATION:TX
CATEGORIES:Family Fun,Sports,UTA
END:VEVENT
BEGIN:VEVENT
DTSTART;VALUE=DATE:20170310
DTEND;VALUE=DATE:20170311
DTSTAMP:20260422T182622
CREATED:20170201T154843Z
LAST-MODIFIED:20170201T154843Z
UID:2338-1489104000-1489190399@arlingtontoday.com
SUMMARY:UTA Baseball
DESCRIPTION:6:30 PM vs. Milwaukee – Clay Gould Ballpark – Tickets available online at UTATickets.com or call the box office at 871-272-9595
URL:https://arlingtontoday.com/event/uta-baseball-4/
LOCATION:Clay Gould Ballpark\, 1400 Allen Saxe Parkway\, Arlington\, TX\, 76013\, United States
CATEGORIES:Family Fun,Sports,UTA
END:VEVENT
BEGIN:VEVENT
DTSTART;VALUE=DATE:20170305
DTEND;VALUE=DATE:20170306
DTSTAMP:20260422T182622
CREATED:20170201T154729Z
LAST-MODIFIED:20170201T154729Z
UID:2336-1488672000-1488758399@arlingtontoday.com
SUMMARY:UTA Softball
DESCRIPTION:11:00 AM vs. Tulsa – Allan Saxe Field – Tickets available online at UTATickets.com or call the box office at 871-272-9595
URL:https://arlingtontoday.com/event/uta-softball-2/
LOCATION:Allan Saxe Field\, 1400 Maverick Way\, Arlington\, TX\, 76013\, United States
CATEGORIES:Family Fun,Sports,UTA
END:VEVENT
BEGIN:VEVENT
DTSTART;VALUE=DATE:20170304
DTEND;VALUE=DATE:20170305
DTSTAMP:20260422T182622
CREATED:20170201T154633Z
LAST-MODIFIED:20170201T154633Z
UID:2334-1488585600-1488671999@arlingtontoday.com
SUMMARY:UTA Doubleheader: Softball
DESCRIPTION:3:00 PM vs. Incarnate Word – 5:30 PM vs. Tulsa – Allan Saxe Field – Tickets available online at UTATickets.com or call the box office at 871-272-9595
URL:https://arlingtontoday.com/event/uta-doubleheader-softball-3/
LOCATION:Allan Saxe Field\, 1400 Maverick Way\, Arlington\, TX\, 76013\, United States
CATEGORIES:Family Fun,Sports,UTA
END:VEVENT
BEGIN:VEVENT
DTSTART;VALUE=DATE:20170303
DTEND;VALUE=DATE:20170304
DTSTAMP:20260422T182622
CREATED:20170201T154520Z
LAST-MODIFIED:20170201T154520Z
UID:2332-1488499200-1488585599@arlingtontoday.com
SUMMARY:UTA Doubleheader: Softball
DESCRIPTION:3:00 PM vs. Incarnate Word – 5:30 PM vs. Saint Francis – Allan Saxe Field – Tickets available online at UTATickets.com or call the box office at 871-272-9595
URL:https://arlingtontoday.com/event/uta-doubleheader-softball-2/
LOCATION:Allan Saxe Field\, 1400 Maverick Way\, Arlington\, TX\, 76013\, United States
CATEGORIES:Family Fun,Sports,UTA
END:VEVENT
BEGIN:VEVENT
DTSTART;VALUE=DATE:20170228
DTEND;VALUE=DATE:20170301
DTSTAMP:20260422T182622
CREATED:20170201T154130Z
LAST-MODIFIED:20170201T154141Z
UID:2330-1488240000-1488326399@arlingtontoday.com
SUMMARY:UTA Doubleheader: Softball
DESCRIPTION:3:00 PM vs. Saint Francis – 5:00 PM vs. Saint Francis – Allan Saxe Field – Tickets available online at UTATickets.com or call the box office at 871-272-9595
URL:https://arlingtontoday.com/event/uta-doubleheader-softball/
LOCATION:Allan Saxe Field\, 1400 Maverick Way\, Arlington\, TX\, 76013\, United States
CATEGORIES:Family Fun,Sports,UTA
END:VEVENT
BEGIN:VEVENT
DTSTART;VALUE=DATE:20170228
DTEND;VALUE=DATE:20170301
DTSTAMP:20260422T182622
CREATED:20170201T154023Z
LAST-MODIFIED:20170201T154023Z
UID:2327-1488240000-1488326399@arlingtontoday.com
SUMMARY:UTA Baseball
DESCRIPTION:6:30 PM vs. Dallas Baptist – Clay Gould Ballpark – Tickets available online at UTATickets.com or call the box office at 871-272-9595
URL:https://arlingtontoday.com/event/uta-baseball-3/
LOCATION:Clay Gould Ballpark\, 1400 Allen Saxe Parkway\, Arlington\, TX\, 76013\, United States
CATEGORIES:Family Fun,Sports,UTA
END:VEVENT
BEGIN:VEVENT
DTSTART;VALUE=DATE:20170226
DTEND;VALUE=DATE:20170227
DTSTAMP:20260422T182622
CREATED:20170201T153912Z
LAST-MODIFIED:20170201T153912Z
UID:2325-1488067200-1488153599@arlingtontoday.com
SUMMARY:UTA Softball
DESCRIPTION:11:00 AM vs. UMKC – Allan Saxe Field – Tickets available online at UTATickets.com or call the box office at 871-272-9595
URL:https://arlingtontoday.com/event/uta-softball/
LOCATION:Allan Saxe Field\, 1400 Maverick Way\, Arlington\, TX\, 76013\, United States
CATEGORIES:Family Fun,Sports,UTA
END:VEVENT
BEGIN:VEVENT
DTSTART;VALUE=DATE:20170226
DTEND;VALUE=DATE:20170227
DTSTAMP:20260422T182622
CREATED:20170201T153006Z
LAST-MODIFIED:20170201T153715Z
UID:2323-1488067200-1488153599@arlingtontoday.com
SUMMARY:UTA Baseball
DESCRIPTION:1:00 PM vs. Louisiana Tech – Clay Gould Ballpark – Tickets available online at UTATickets.com or call the box office at 871-272-9595
URL:https://arlingtontoday.com/event/uta-baseball-2/
LOCATION:Clay Gould Ballpark\, 1400 Allen Saxe Parkway\, Arlington\, TX\, 76013\, United States
CATEGORIES:Family Fun,Sports,UTA
END:VEVENT
BEGIN:VEVENT
DTSTART;VALUE=DATE:20170225
DTEND;VALUE=DATE:20170226
DTSTAMP:20260422T182622
CREATED:20170201T152911Z
LAST-MODIFIED:20170201T153828Z
UID:2321-1487980800-1488067199@arlingtontoday.com
SUMMARY:UTA Doubleheader: Men's and Women's Basketball
DESCRIPTION:2:00 PM Women vs. South Alabama – 4:30 PM Men vs. South Alabama – College Park Center – Tickets available online at UTATickets.com or call the box office at 871-272-9595
URL:https://arlingtontoday.com/event/uta-doubleheader-mens-and-womens-basketball-2/
LOCATION:TX
CATEGORIES:Family Fun,Sports,UTA
END:VEVENT
BEGIN:VEVENT
DTSTART;VALUE=DATE:20170225
DTEND;VALUE=DATE:20170226
DTSTAMP:20260422T182622
CREATED:20170201T152701Z
LAST-MODIFIED:20170201T153746Z
UID:2319-1487980800-1488067199@arlingtontoday.com
SUMMARY:UTA Baseball
DESCRIPTION:2:00 PM vs. Louisiana Tech – Clay Gould Ballpark – Tickets available online at UTATickets.com or call the box office at 871-272-9595
URL:https://arlingtontoday.com/event/uta-baseball/
LOCATION:Clay Gould Ballpark\, 1400 Allen Saxe Parkway\, Arlington\, TX\, 76013\, United States
CATEGORIES:Family Fun,Sports,UTA
END:VEVENT
BEGIN:VEVENT
DTSTART;VALUE=DATE:20170225
DTEND;VALUE=DATE:20170226
DTSTAMP:20260422T182622
CREATED:20170201T151508Z
LAST-MODIFIED:20170201T152444Z
UID:2306-1487980800-1488067199@arlingtontoday.com
SUMMARY:UTA Doubleheader: Softball
DESCRIPTION:12:30 PM vs. UMKC – 5:30 PM vs. Nicholls – Allan Saxe Field – Tickets available online at UTATickets.com or call the box office at 871-272-9595
URL:https://arlingtontoday.com/event/uta-softball-doubleheader-2/
LOCATION:Allan Saxe Field\, 1400 Maverick Way\, Arlington\, TX\, 76013\, United States
CATEGORIES:Family Fun,Sports,UTA
END:VEVENT
BEGIN:VEVENT
DTSTART;TZID=America/Chicago:20170224T183000
DTEND;TZID=America/Chicago:20170224T210000
DTSTAMP:20260422T182622
CREATED:20170201T150525Z
LAST-MODIFIED:20170201T152405Z
UID:2301-1487961000-1487970000@arlingtontoday.com
SUMMARY:UTA Baseball
DESCRIPTION:6:30 PM vs. Louisiana Tech – Clay Gould Ballpark – Tickets available online at UTATickets.com or call the box office at 871-272-9595
URL:https://arlingtontoday.com/event/uta-baseball-vs-louisiana-tech/
LOCATION:Clay Gould Ballpark\, 1400 Allen Saxe Parkway\, Arlington\, TX\, 76013\, United States
CATEGORIES:Family Fun,Sports,UTA
END:VEVENT
BEGIN:VEVENT
DTSTART;VALUE=DATE:20170224
DTEND;VALUE=DATE:20170225
DTSTAMP:20260422T182622
CREATED:20170201T151327Z
LAST-MODIFIED:20170201T152333Z
UID:2303-1487894400-1487980799@arlingtontoday.com
SUMMARY:UTA Doubleheader: Softball
DESCRIPTION:3:00 PM vs. Nicholls – 5:30 PM vs. Wichita State – Allen Saxe Field – Tickets available online at UTATickets.com or call the box office at 871-272-9595
URL:https://arlingtontoday.com/event/uta-softball-doubleheader/
LOCATION:Allan Saxe Field\, 1400 Maverick Way\, Arlington\, TX\, 76013\, United States
CATEGORIES:Family Fun,Sports,UTA
END:VEVENT
BEGIN:VEVENT
DTSTART;VALUE=DATE:20170223
DTEND;VALUE=DATE:20170224
DTSTAMP:20260422T182622
CREATED:20170201T150401Z
LAST-MODIFIED:20170201T152137Z
UID:2299-1487808000-1487894399@arlingtontoday.com
SUMMARY:UTA Women's Basketball
DESCRIPTION:7:00 PM vs. Troy – College Park Center – Tickets available online at UTATickets.com or call the box office at 871-272-9595
URL:https://arlingtontoday.com/event/uta-womens-basketball-2/
LOCATION:College Park Center\, 601 S Pecan Street\, Arlington\, TX\, 76019\, United States
CATEGORIES:Family Fun,Sports,UTA
END:VEVENT
BEGIN:VEVENT
DTSTART;VALUE=DATE:20170221
DTEND;VALUE=DATE:20170222
DTSTAMP:20260422T182622
CREATED:20170201T150128Z
LAST-MODIFIED:20170201T152011Z
UID:2296-1487635200-1487721599@arlingtontoday.com
SUMMARY:UTA Baseball
DESCRIPTION:6:30 PM – vs. TCU – Clay Gould Ballpark – Tickets available online at UTATickets.com or call the box office at 817-272-9595
URL:https://arlingtontoday.com/event/uta-baseball-vs-tcu/
LOCATION:Clay Gould Ballpark\, 1400 Allen Saxe Parkway\, Arlington\, TX\, 76013\, United States
CATEGORIES:Family Fun,Sports,UTA
END:VEVENT
BEGIN:VEVENT
DTSTART;VALUE=DATE:20170219
DTEND;VALUE=DATE:20170220
DTSTAMP:20260422T182622
CREATED:20170207T131041Z
LAST-MODIFIED:20170207T131041Z
UID:2393-1487462400-1487548799@arlingtontoday.com
SUMMARY:RFD-TV's The American
DESCRIPTION:When the dust settles at this action-packed rodeo event presented by Polaris RANGER\, the toughest competitors in the world will ride away with the most significant one-day cash payout ever awarded. Every qualifying athlete will be entitled to a share of  $1 million cash payout
URL:https://arlingtontoday.com/event/rfd-tvs-the-american/
LOCATION:AT&T Stadium\, 1 AT&T Way\, Arlington\, TX\, 76011\, United States
CATEGORIES:Family Fun,Sports
END:VEVENT
BEGIN:VEVENT
DTSTART;VALUE=DATE:20170211
DTEND;VALUE=DATE:20170212
DTSTAMP:20260422T182622
CREATED:20170201T143440Z
LAST-MODIFIED:20170201T152051Z
UID:2294-1486771200-1486857599@arlingtontoday.com
SUMMARY:UTA Doubleheader: Men's and Women's Basketball
DESCRIPTION:2:00 PM Women vs. Arkansas State – 4:30 PM Men vs. Arkansas State – College Park Center – Tickets available online at UTATickets.com or call the box office at 817-272-9595
URL:https://arlingtontoday.com/event/uta-doubleheaders-mens-and-womens-basketball/
LOCATION:College Park Center\, 601 S Pecan Street\, Arlington\, TX\, 76019\, United States
CATEGORIES:Family Fun,Sports,UTA
END:VEVENT
BEGIN:VEVENT
DTSTART;VALUE=DATE:20170209
DTEND;VALUE=DATE:20170210
DTSTAMP:20260422T182622
CREATED:20170201T142328Z
LAST-MODIFIED:20170201T151856Z
UID:2292-1486598400-1486684799@arlingtontoday.com
SUMMARY:UTA Women's Basketball
DESCRIPTION:11:30 AM – vs. Arkansas State – College Park Center – Tickets available online at http://www.UTATickets.com
URL:https://arlingtontoday.com/event/uta-womens-basketball/
LOCATION:College Park Center\, 601 S Pecan Street\, Arlington\, TX\, 76019\, United States
CATEGORIES:Family Fun,Sports,UTA
END:VEVENT
BEGIN:VEVENT
DTSTART;VALUE=DATE:20161213
DTEND;VALUE=DATE:20170103
DTSTAMP:20260422T182622
CREATED:20161213T162516Z
LAST-MODIFIED:20161213T162516Z
UID:2134-1481587200-1483401599@arlingtontoday.com
SUMMARY:Tailgate @ 1010 Collins
DESCRIPTION:1010 Collins Ultimate Tailgate | Dallas Cowboys Home Games  \nALSO for major college games at AT&T Stadium \nGet ready for the party of a life time | MEET COWBOYS LEGENDS Drew Pearson\, Charles Haley\, and Eugene Lockhart! \n\nExcellent Buffet!\nComplimentary Drinks (FULL BAR INCLUDED)\nLive Entertainment\n50 foot screen and several other big screens for game watching!\nMerchandise & Rare Memorabilia\nOutdoor Games\nIndoor & Outdoor Space\nMavs Maniacs Performing\n\nWhat is included? \nYour tailgate ticket will include unlimited beer\, wine\, margaritas\, and food! \n$35 – Minors 20 and under \n$75- Unlimited Food & Drinks\, if you can legally eat and drink it\, it is included! \nReserved Parking Available \nParking is not included in your ticket price.\nYou may purchase a parking spot from 1010 Collins for an additional fee. \n3:30pm – 7pm
URL:https://arlingtontoday.com/event/tailgate-1010-collins/
LOCATION:1010 Collins\, 1010 N Collins St \, Arlington\, TX\, 76011\, United States
CATEGORIES:Sports
ATTACH;FMTTYPE=image/png:https://arlingtontoday.com/wp-content/uploads/2016/12/Screen-Shot-2016-12-13-at-11.20.25-AM.png
END:VEVENT
BEGIN:VEVENT
DTSTART;VALUE=DATE:20161108
DTEND;VALUE=DATE:20161109
DTSTAMP:20260422T182622
CREATED:20161103T153329Z
LAST-MODIFIED:20161103T154117Z
UID:1938-1478563200-1478649599@arlingtontoday.com
SUMMARY:Arlington On Tap
DESCRIPTION:UTA Athletic Director Jim Baker\nHis expansive topic: Everything You Wanted to Know About the Future and Potential of UTA Athletics. \nSave the date: Nov. 8 at Maverick’ Bar and Grill in downtown Arlington\, 601 E. Main St.\, 6 p.m. to 8 p.m. Arlington on Tap is sponsored by the Arlington Historical Society and Arlington Proud\, with media sponsorship by Arlington Today Magazine. \n  “Baker coincidentally took on his job the same day back in 2012 that the university and athletic department opened the gleaming $78 million\, 7\,000 seat College Park Center\,” said Mark Joeckel\, executive director of Arlington Proud. “Expectation were understandably high. UT-Arlington doesn’t have football\, so the emphasis understandably fell on other sports including basketball and volleyball\, which previously had been played on an oversize theatrical stage at Texas Hall\, the latter most assuredly an exotic venue but not particularly amenable to either recruiting or collegiate athletic presence.” \nWhat’s next for big time sports at UT-Arlington? A lot\, Baker promises. Find out more at the next Arlington on Tap. \n6:00pm – 8:00pm
URL:https://arlingtontoday.com/event/arlington-on-tap/
LOCATION:Mavericks Bar And Grill\, 601 E. Main St. \, Arlington\, TX\, 76010\, United States
CATEGORIES:Food,Sports,UTA
ATTACH;FMTTYPE=image/jpeg:https://arlingtontoday.com/wp-content/uploads/2016/11/jb.jpeg
END:VEVENT
BEGIN:VEVENT
DTSTART;VALUE=DATE:20160916
DTEND;VALUE=DATE:20160917
DTSTAMP:20260422T182622
CREATED:20160916T160248Z
LAST-MODIFIED:20160916T160248Z
UID:1737-1473984000-1474070399@arlingtontoday.com
SUMMARY:UTA volleyball v. Samford
DESCRIPTION:Cheer on the Lady Mavs as they take on Samford! \n11 am – 1 pm
URL:https://arlingtontoday.com/event/uta-volleyball-v-samford/
LOCATION:College Park Center\, 601 S Pecan Street\, Arlington\, TX\, 76019\, United States
CATEGORIES:Sports,UTA
ATTACH;FMTTYPE=image/jpeg:https://arlingtontoday.com/wp-content/uploads/2016/09/utav.jpg
END:VEVENT
END:VCALENDAR