BEGIN:VCALENDAR
VERSION:2.0
PRODID:-//Arlington Today Magazine - ECPv6.15.20//NONSGML v1.0//EN
CALSCALE:GREGORIAN
METHOD:PUBLISH
X-ORIGINAL-URL:https://arlingtontoday.com
X-WR-CALDESC:Events for Arlington Today Magazine
REFRESH-INTERVAL;VALUE=DURATION:PT1H
X-Robots-Tag:noindex
X-PUBLISHED-TTL:PT1H
BEGIN:VTIMEZONE
TZID:America/Chicago
BEGIN:DAYLIGHT
TZOFFSETFROM:-0600
TZOFFSETTO:-0500
TZNAME:CDT
DTSTART:20160313T080000
END:DAYLIGHT
BEGIN:STANDARD
TZOFFSETFROM:-0500
TZOFFSETTO:-0600
TZNAME:CST
DTSTART:20161106T070000
END:STANDARD
BEGIN:DAYLIGHT
TZOFFSETFROM:-0600
TZOFFSETTO:-0500
TZNAME:CDT
DTSTART:20170312T080000
END:DAYLIGHT
BEGIN:STANDARD
TZOFFSETFROM:-0500
TZOFFSETTO:-0600
TZNAME:CST
DTSTART:20171105T070000
END:STANDARD
BEGIN:DAYLIGHT
TZOFFSETFROM:-0600
TZOFFSETTO:-0500
TZNAME:CDT
DTSTART:20180311T080000
END:DAYLIGHT
BEGIN:STANDARD
TZOFFSETFROM:-0500
TZOFFSETTO:-0600
TZNAME:CST
DTSTART:20181104T070000
END:STANDARD
END:VTIMEZONE
BEGIN:VEVENT
DTSTART;VALUE=DATE:20170908
DTEND;VALUE=DATE:20170911
DTSTAMP:20260422T061423
CREATED:20170609T151037Z
LAST-MODIFIED:20170609T151037Z
UID:2944-1504828800-1505087999@arlingtontoday.com
SUMMARY:Texas Rangers vs. New York Yankees
DESCRIPTION:
URL:https://arlingtontoday.com/event/texas-rangers-vs-new-york-yankees/
LOCATION:Globe Life Park in Arlington\, 1000 Ballpark Way\, Arlington\, TX\, 76011\, United States
CATEGORIES:Family Fun,Sports
END:VEVENT
BEGIN:VEVENT
DTSTART;VALUE=DATE:20170903
DTEND;VALUE=DATE:20170904
DTSTAMP:20260422T061423
CREATED:20170511T144228Z
LAST-MODIFIED:20170511T144228Z
UID:2825-1504396800-1504483199@arlingtontoday.com
SUMMARY:Dallas Wings Basketball
DESCRIPTION:Dallas Wings vs. New York Liberty \n3:00 PM — College Park Center
URL:https://arlingtontoday.com/event/dallas-wings-basketball-17/
LOCATION:College Park Center\, 601 S Pecan Street\, Arlington\, TX\, 76019\, United States
CATEGORIES:Family Fun,Sports
END:VEVENT
BEGIN:VEVENT
DTSTART;VALUE=DATE:20170901
DTEND;VALUE=DATE:20170904
DTSTAMP:20260422T061423
CREATED:20170609T150235Z
LAST-MODIFIED:20170609T150235Z
UID:2942-1504224000-1504483199@arlingtontoday.com
SUMMARY:Texas Rangers vs. Los Angeles Angels of Anaheim
DESCRIPTION:
URL:https://arlingtontoday.com/event/texas-rangers-vs-los-angeles-angels-of-anaheim-2/
LOCATION:Globe Life Park in Arlington\, 1000 Ballpark Way\, Arlington\, TX\, 76011\, United States
CATEGORIES:Family Fun,Sports
END:VEVENT
BEGIN:VEVENT
DTSTART;VALUE=DATE:20170819
DTEND;VALUE=DATE:20170820
DTSTAMP:20260422T061423
CREATED:20170511T144127Z
LAST-MODIFIED:20170511T144127Z
UID:2823-1503100800-1503187199@arlingtontoday.com
SUMMARY:Dallas Wings Basketball
DESCRIPTION:Dallas Wings vs. Atlanta Dream \n7:00 PM — College Park Center
URL:https://arlingtontoday.com/event/dallas-wings-basketball-16/
LOCATION:College Park Center\, 601 S Pecan Street\, Arlington\, TX\, 76019\, United States
CATEGORIES:Family Fun,Sports
END:VEVENT
BEGIN:VEVENT
DTSTART;VALUE=DATE:20170817
DTEND;VALUE=DATE:20170821
DTSTAMP:20260422T061423
CREATED:20170609T150123Z
LAST-MODIFIED:20170609T150123Z
UID:2940-1502928000-1503273599@arlingtontoday.com
SUMMARY:Texas Rangers vs. Chicago White Sox
DESCRIPTION:
URL:https://arlingtontoday.com/event/texas-rangers-vs-chicago-white-sox/
LOCATION:Globe Life Park in Arlington\, 1000 Ballpark Way\, Arlington\, TX\, 76011\, United States
CATEGORIES:Family Fun,Sports
END:VEVENT
BEGIN:VEVENT
DTSTART;VALUE=DATE:20170814
DTEND;VALUE=DATE:20170817
DTSTAMP:20260422T061423
CREATED:20170609T145958Z
LAST-MODIFIED:20170609T145958Z
UID:2938-1502668800-1502927999@arlingtontoday.com
SUMMARY:Texas Rangers vs. Detroit Tigers
DESCRIPTION:
URL:https://arlingtontoday.com/event/texas-rangers-vs-detroit-tigers/
LOCATION:Globe Life Park in Arlington\, 1000 Ballpark Way\, Arlington\, TX\, 76011\, United States
CATEGORIES:Family Fun,Sports
END:VEVENT
BEGIN:VEVENT
DTSTART;VALUE=DATE:20170813
DTEND;VALUE=DATE:20171018
DTSTAMP:20260422T061423
CREATED:20170609T145821Z
LAST-MODIFIED:20170609T145821Z
UID:2936-1502582400-1508284799@arlingtontoday.com
SUMMARY:Texas Rangers vs. Houston Astros
DESCRIPTION:
URL:https://arlingtontoday.com/event/texas-rangers-vs-houston-astros/
LOCATION:Globe Life Park in Arlington\, 1000 Ballpark Way\, Arlington\, TX\, 76011\, United States
CATEGORIES:Family Fun,Sports
END:VEVENT
BEGIN:VEVENT
DTSTART;VALUE=DATE:20170810
DTEND;VALUE=DATE:20170811
DTSTAMP:20260422T061423
CREATED:20170511T144029Z
LAST-MODIFIED:20170511T144029Z
UID:2821-1502323200-1502409599@arlingtontoday.com
SUMMARY:Dallas Wings Basketball
DESCRIPTION:Dallas Wings vs. Phoenix Mercury \n7:00 PM — College Park Center
URL:https://arlingtontoday.com/event/dallas-wings-basketball-15/
LOCATION:College Park Center\, 601 S Pecan Street\, Arlington\, TX\, 76019\, United States
CATEGORIES:Family Fun,Sports
END:VEVENT
BEGIN:VEVENT
DTSTART;VALUE=DATE:20170806
DTEND;VALUE=DATE:20170807
DTSTAMP:20260422T061423
CREATED:20170511T143930Z
LAST-MODIFIED:20170511T143930Z
UID:2819-1501977600-1502063999@arlingtontoday.com
SUMMARY:Dallas Wings Basketball
DESCRIPTION:Dallas Wings vs. Los Angeles Sparks \n3:30 PM — College Park Center
URL:https://arlingtontoday.com/event/dallas-wings-basketball-14/
LOCATION:College Park Center\, 601 S Pecan Street\, Arlington\, TX\, 76019\, United States
CATEGORIES:Family Fun,Sports
END:VEVENT
BEGIN:VEVENT
DTSTART;VALUE=DATE:20170804
DTEND;VALUE=DATE:20170805
DTSTAMP:20260422T061423
CREATED:20170511T143833Z
LAST-MODIFIED:20170511T143833Z
UID:2817-1501804800-1501891199@arlingtontoday.com
SUMMARY:Dallas Wings Basketball
DESCRIPTION:Dallas Wings vs. Seattle Storm \n7:00 PM — College Park Center
URL:https://arlingtontoday.com/event/dallas-wings-basketball-13/
LOCATION:College Park Center\, 601 S Pecan Street\, Arlington\, TX\, 76019\, United States
CATEGORIES:Family Fun,Sports
END:VEVENT
BEGIN:VEVENT
DTSTART;VALUE=DATE:20170731
DTEND;VALUE=DATE:20170803
DTSTAMP:20260422T061423
CREATED:20170609T145659Z
LAST-MODIFIED:20170609T145659Z
UID:2934-1501459200-1501718399@arlingtontoday.com
SUMMARY:Texas Rangers vs. Seattle Mariners
DESCRIPTION:
URL:https://arlingtontoday.com/event/texas-rangers-vs-seattle-mariners-2/
LOCATION:Globe Life Park in Arlington\, 1000 Ballpark Way\, Arlington\, TX\, 76011\, United States
CATEGORIES:Family Fun,Sports
END:VEVENT
BEGIN:VEVENT
DTSTART;VALUE=DATE:20170728
DTEND;VALUE=DATE:20170731
DTSTAMP:20260422T061423
CREATED:20170609T145541Z
LAST-MODIFIED:20170609T145541Z
UID:2932-1501200000-1501459199@arlingtontoday.com
SUMMARY:Texas Rangers vs. Baltimore Orioles
DESCRIPTION:
URL:https://arlingtontoday.com/event/texas-rangers-vs-baltimore-orioles/
LOCATION:Globe Life Park in Arlington\, 1000 Ballpark Way\, Arlington\, TX\, 76011\, United States
CATEGORIES:Family Fun,Sports
END:VEVENT
BEGIN:VEVENT
DTSTART;VALUE=DATE:20170725
DTEND;VALUE=DATE:20170726
DTSTAMP:20260422T061423
CREATED:20170511T143725Z
LAST-MODIFIED:20170511T143725Z
UID:2815-1500940800-1501027199@arlingtontoday.com
SUMMARY:Dallas Wings Basketball
DESCRIPTION:Dallas Wings vs. Indiana Fever \n7:00 PM — College Park Center
URL:https://arlingtontoday.com/event/dallas-wings-basketball-12/
LOCATION:College Park Center\, 601 S Pecan Street\, Arlington\, TX\, 76019\, United States
CATEGORIES:Family Fun,Sports
END:VEVENT
BEGIN:VEVENT
DTSTART;VALUE=DATE:20170724
DTEND;VALUE=DATE:20170727
DTSTAMP:20260422T061423
CREATED:20170609T144535Z
LAST-MODIFIED:20170609T144535Z
UID:2930-1500854400-1501113599@arlingtontoday.com
SUMMARY:Texas Rangers vs. Miami Marlins
DESCRIPTION:
URL:https://arlingtontoday.com/event/texas-rangers-vs-miami-marlins/
LOCATION:Globe Life Park in Arlington\, 1000 Ballpark Way\, Arlington\, TX\, 76011\, United States
CATEGORIES:Family Fun,Sports
END:VEVENT
BEGIN:VEVENT
DTSTART;VALUE=DATE:20170716
DTEND;VALUE=DATE:20170717
DTSTAMP:20260422T061423
CREATED:20170511T143507Z
LAST-MODIFIED:20170511T143507Z
UID:2813-1500163200-1500249599@arlingtontoday.com
SUMMARY:Dallas Wings Basketball
DESCRIPTION:Dallas Wings vs. Chicago Sky \n12:00 PM — College Park Center
URL:https://arlingtontoday.com/event/dallas-wings-basketball-11/
LOCATION:College Park Center\, 601 S Pecan Street\, Arlington\, TX\, 76019\, United States
CATEGORIES:Family Fun,Sports
END:VEVENT
BEGIN:VEVENT
DTSTART;VALUE=DATE:20170707
DTEND;VALUE=DATE:20170710
DTSTAMP:20260422T061423
CREATED:20170609T144422Z
LAST-MODIFIED:20170609T144422Z
UID:2928-1499385600-1499644799@arlingtontoday.com
SUMMARY:Texas Rangers vs. Los Angeles Angels of Anaheim
DESCRIPTION:
URL:https://arlingtontoday.com/event/texas-rangers-vs-los-angeles-angels-of-anaheim/
LOCATION:Globe Life Park in Arlington\, 1000 Ballpark Way\, Arlington\, TX\, 76011\, United States
CATEGORIES:Family Fun,Sports
END:VEVENT
BEGIN:VEVENT
DTSTART;VALUE=DATE:20170703
DTEND;VALUE=DATE:20170706
DTSTAMP:20260422T061423
CREATED:20170609T144240Z
LAST-MODIFIED:20170609T144240Z
UID:2926-1499040000-1499299199@arlingtontoday.com
SUMMARY:Texas Rangers vs. Boston Red Sox
DESCRIPTION:
URL:https://arlingtontoday.com/event/texas-rangers-vs-boston-red-sox/
LOCATION:Globe Life Park in Arlington\, 1000 Ballpark Way\, Arlington\, TX\, 76011\, United States
CATEGORIES:Family Fun,Sports
END:VEVENT
BEGIN:VEVENT
DTSTART;VALUE=DATE:20170625
DTEND;VALUE=DATE:20170626
DTSTAMP:20260422T061423
CREATED:20170511T143051Z
LAST-MODIFIED:20170511T143051Z
UID:2807-1498348800-1498435199@arlingtontoday.com
SUMMARY:Dallas Wings Basketball
DESCRIPTION:Dallas Wings vs. Connecticut Sun \n3:30 PM — College Park Center
URL:https://arlingtontoday.com/event/dallas-wings-basketball-8/
LOCATION:College Park Center\, 601 S Pecan Street\, Arlington\, TX\, 76019\, United States
CATEGORIES:Family Fun,Sports
END:VEVENT
BEGIN:VEVENT
DTSTART;VALUE=DATE:20170621
DTEND;VALUE=DATE:20170622
DTSTAMP:20260422T061423
CREATED:20170511T142942Z
LAST-MODIFIED:20170511T142942Z
UID:2804-1498003200-1498089599@arlingtontoday.com
SUMMARY:Dallas Wings Basketball
DESCRIPTION:Dallas Wings vs. San Antonio Stars \n12:00 PM — College Park Center
URL:https://arlingtontoday.com/event/dallas-wings-basketball-7/
LOCATION:College Park Center\, 601 S Pecan Street\, Arlington\, TX\, 76019\, United States
CATEGORIES:Family Fun,Sports
END:VEVENT
BEGIN:VEVENT
DTSTART;VALUE=DATE:20170619
DTEND;VALUE=DATE:20170624
DTSTAMP:20260422T061423
CREATED:20170609T144122Z
LAST-MODIFIED:20170609T144122Z
UID:2924-1497830400-1498262399@arlingtontoday.com
SUMMARY:Texas Rangers vs. Toronto Blue Jays
DESCRIPTION:
URL:https://arlingtontoday.com/event/texas-rangers-vs-toronto-blue-jays/
LOCATION:Globe Life Park in Arlington\, 1000 Ballpark Way\, Arlington\, TX\, 76011\, United States
CATEGORIES:Family Fun,Sports
END:VEVENT
BEGIN:VEVENT
DTSTART;VALUE=DATE:20170616
DTEND;VALUE=DATE:20170619
DTSTAMP:20260422T061423
CREATED:20170609T143810Z
LAST-MODIFIED:20170609T143810Z
UID:2921-1497571200-1497830399@arlingtontoday.com
SUMMARY:Texas Rangers vs. Seattle Mariners
DESCRIPTION:
URL:https://arlingtontoday.com/event/texas-rangers-vs-seattle-mariners/
LOCATION:Globe Life Park in Arlington\, 1000 Ballpark Way\, Arlington\, TX\, 76011\, United States
CATEGORIES:Family Fun,Sports
END:VEVENT
BEGIN:VEVENT
DTSTART;VALUE=DATE:20170616
DTEND;VALUE=DATE:20170617
DTSTAMP:20260422T061423
CREATED:20170511T142748Z
LAST-MODIFIED:20170511T142748Z
UID:2802-1497571200-1497657599@arlingtontoday.com
SUMMARY:Dallas Wings Basketball
DESCRIPTION:Dallas Wings vs. New York Liberty \n7:00 PM — College Park Center
URL:https://arlingtontoday.com/event/dallas-wings-basketball-6/
LOCATION:College Park Center\, 601 S Pecan Street\, Arlington\, TX\, 76019\, United States
CATEGORIES:Family Fun,Sports
END:VEVENT
BEGIN:VEVENT
DTSTART;VALUE=DATE:20170611
DTEND;VALUE=DATE:20170612
DTSTAMP:20260422T061423
CREATED:20170511T142621Z
LAST-MODIFIED:20170511T142621Z
UID:2800-1497139200-1497225599@arlingtontoday.com
SUMMARY:Dallas Wings Basketball
DESCRIPTION:Dallas Wings vs. Minnesota Lynx \n3:30 PM — College Park Center
URL:https://arlingtontoday.com/event/dallas-wings-basketball-5/
LOCATION:College Park Center\, 601 S Pecan Street\, Arlington\, TX\, 76019\, United States
CATEGORIES:Family Fun,Sports
END:VEVENT
BEGIN:VEVENT
DTSTART;VALUE=DATE:20170609
DTEND;VALUE=DATE:20170610
DTSTAMP:20260422T061423
CREATED:20170511T141840Z
LAST-MODIFIED:20170511T141840Z
UID:2798-1496966400-1497052799@arlingtontoday.com
SUMMARY:Dallas Wings Basketball
DESCRIPTION:Dallas Wings vs. Los Angeles Sparks \n7:00 PM- College Park Center
URL:https://arlingtontoday.com/event/dallas-wings-basketball-4/
LOCATION:College Park Center\, 601 S Pecan Street\, Arlington\, TX\, 76019\, United States
CATEGORIES:Family Fun,Sports
END:VEVENT
BEGIN:VEVENT
DTSTART;VALUE=DATE:20170606
DTEND;VALUE=DATE:20170607
DTSTAMP:20260422T061423
CREATED:20170511T141743Z
LAST-MODIFIED:20170511T141743Z
UID:2796-1496707200-1496793599@arlingtontoday.com
SUMMARY:Dallas Wings Basketball
DESCRIPTION:Dallas Wings vs. Washington Mystics \n7:00 PM — College Park Center
URL:https://arlingtontoday.com/event/dallas-wings-basketball-3/
LOCATION:College Park Center\, 601 S Pecan Street\, Arlington\, TX\, 76019\, United States
CATEGORIES:Family Fun,Sports
END:VEVENT
BEGIN:VEVENT
DTSTART;VALUE=DATE:20170605
DTEND;VALUE=DATE:20170606
DTSTAMP:20260422T061423
CREATED:20170511T143303Z
LAST-MODIFIED:20170511T143303Z
UID:2811-1496620800-1496707199@arlingtontoday.com
SUMMARY:Dallas Wings Basketball
DESCRIPTION:Dallas Wings vs. Atlanta Dream \n7:00 PM — College Park Center
URL:https://arlingtontoday.com/event/dallas-wings-basketball-10/
LOCATION:College Park Center\, 601 S Pecan Street\, Arlington\, TX\, 76019\, United States
CATEGORIES:Family Fun,Sports
END:VEVENT
BEGIN:VEVENT
DTSTART;VALUE=DATE:20170601
DTEND;VALUE=DATE:20170602
DTSTAMP:20260422T061423
CREATED:20170511T143205Z
LAST-MODIFIED:20170511T143205Z
UID:2809-1496275200-1496361599@arlingtontoday.com
SUMMARY:Dallas Wings Basketball
DESCRIPTION:Dallas Wings vs. Seattle Storm \n7:00 PM — College Park Center
URL:https://arlingtontoday.com/event/dallas-wings-basketball-9/
LOCATION:College Park Center\, 601 S Pecan Street\, Arlington\, TX\, 76019\, United States
CATEGORIES:Family Fun,Sports
END:VEVENT
BEGIN:VEVENT
DTSTART;VALUE=DATE:20170530
DTEND;VALUE=DATE:20170531
DTSTAMP:20260422T061423
CREATED:20170511T141635Z
LAST-MODIFIED:20170511T141635Z
UID:2794-1496102400-1496188799@arlingtontoday.com
SUMMARY:Dallas Wings Basketball
DESCRIPTION:Dallas Wings vs. Indiana Fever \n7:00 PM — College Park Center
URL:https://arlingtontoday.com/event/dallas-wings-basketball-2/
LOCATION:College Park Center\, 601 S Pecan Street\, Arlington\, TX\, 76019\, United States
CATEGORIES:Family Fun,Sports
END:VEVENT
BEGIN:VEVENT
DTSTART;VALUE=DATE:20170520
DTEND;VALUE=DATE:20170521
DTSTAMP:20260422T061423
CREATED:20170511T141529Z
LAST-MODIFIED:20170511T141529Z
UID:2792-1495238400-1495324799@arlingtontoday.com
SUMMARY:Dallas Wings Basketball
DESCRIPTION:Dallas Wings vs. Minnesota Lynx \n7:00 PM — College Park Center
URL:https://arlingtontoday.com/event/dallas-wings-basketball/
LOCATION:College Park Center\, 601 S Pecan Street\, Arlington\, TX\, 76019\, United States
CATEGORIES:Family Fun,Sports
END:VEVENT
BEGIN:VEVENT
DTSTART;VALUE=DATE:20170430
DTEND;VALUE=DATE:20170501
DTSTAMP:20260422T061423
CREATED:20170207T125657Z
LAST-MODIFIED:20170207T125657Z
UID:2386-1493510400-1493596799@arlingtontoday.com
SUMMARY:UTA Baseball
DESCRIPTION:1:00 PM vs. UL Lafayette – Clay Gould Ballpark – Tickets available online at UTATickets.com or call the box office at 817-272-9595
URL:https://arlingtontoday.com/event/uta-baseball-21/
LOCATION:Clay Gould Ballpark\, 1400 Allen Saxe Parkway\, Arlington\, TX\, 76013\, United States
CATEGORIES:Family Fun,Sports,UTA
END:VEVENT
END:VCALENDAR